BEGIN:VCALENDAR
VERSION:2.0
PRODID:-// - ECPv6.2.0.1//NONSGML v1.0//EN
CALSCALE:GREGORIAN
METHOD:PUBLISH
X-ORIGINAL-URL:https://familientreff-birmenstorf.ch
X-WR-CALDESC:Veranstaltungen für 
REFRESH-INTERVAL;VALUE=DURATION:PT1H
X-Robots-Tag:noindex
X-PUBLISHED-TTL:PT1H
BEGIN:VTIMEZONE
TZID:Europe/Helsinki
BEGIN:DAYLIGHT
TZOFFSETFROM:+0200
TZOFFSETTO:+0300
TZNAME:EEST
DTSTART:20260329T010000
END:DAYLIGHT
BEGIN:STANDARD
TZOFFSETFROM:+0300
TZOFFSETTO:+0200
TZNAME:EET
DTSTART:20261025T010000
END:STANDARD
END:VTIMEZONE
BEGIN:VEVENT
DTSTART;TZID=Europe/Helsinki:20260327T140000
DTEND;TZID=Europe/Helsinki:20260327T170000
DTSTAMP:20260425T183054
CREATED:20250312T101258Z
LAST-MODIFIED:20260309T155332Z
UID:970-1774620000-1774630800@familientreff-birmenstorf.ch
SUMMARY:Spiel-Café
DESCRIPTION:Am Freitag sind die Türen wieder geöffnet vom Spiel-Café. Die Kinder können im Spielbereich spielen\, während die Grossen einen Kaffee geniessen. Kleine Snacks gibt es auch. Mit Bastelangebot! Wir freuen uns!
URL:https://familientreff-birmenstorf.ch/event/spiel-cafe-7/
LOCATION:Familientreff Gebenstorf\, Dorfstrasse 6\, Gebenstorf\, Aargau\, 5412\, Switzerland
ATTACH;FMTTYPE=image/jpeg:https://familientreff-birmenstorf.ch/wp-content/uploads/2025/02/Leitung-Instagram-Post.jpg
END:VEVENT
END:VCALENDAR