BEGIN:VCALENDAR
VERSION:2.0
PRODID:-// - ECPv6.2.0.1//NONSGML v1.0//EN
CALSCALE:GREGORIAN
METHOD:PUBLISH
X-ORIGINAL-URL:https://familientreff-birmenstorf.ch
X-WR-CALDESC:Veranstaltungen für 
REFRESH-INTERVAL;VALUE=DURATION:PT1H
X-Robots-Tag:noindex
X-PUBLISHED-TTL:PT1H
BEGIN:VTIMEZONE
TZID:Europe/Helsinki
BEGIN:DAYLIGHT
TZOFFSETFROM:+0200
TZOFFSETTO:+0300
TZNAME:EEST
DTSTART:20260329T010000
END:DAYLIGHT
BEGIN:STANDARD
TZOFFSETFROM:+0300
TZOFFSETTO:+0200
TZNAME:EET
DTSTART:20261025T010000
END:STANDARD
END:VTIMEZONE
BEGIN:VEVENT
DTSTART;TZID=Europe/Helsinki:20260425T110000
DTEND;TZID=Europe/Helsinki:20260425T150000
DTSTAMP:20260425T143050
CREATED:20260326T101331Z
LAST-MODIFIED:20260326T101331Z
UID:1208-1777114800-1777129200@familientreff-birmenstorf.ch
SUMMARY:VaKi-Grill
DESCRIPTION:Gemeinsam Zeit verbringen\, draussen sein und den Grill geniessen – der VAKI-Grill vom Familientreff Birmenstorf bietet die perfekte Gelegenheit für Väter und Kinder\, zusammen einen entspannten und fröhlichen Tag zu erleben. In lockerer Atmosphäre wird gespielt\, gelacht und natürlich auch fein gegessen. \nWürste und Brot können direkt vor Ort gekauft werden\, sodass ihr euch um nichts kümmern müsst und einfach die gemeinsame Zeit geniessen könnt. Der Anlass findet nur bei schönem Wetter statt – bei unsicherer Witterung gibt es stattdessen ein gemütliches VaKi-Zmorge\, \nDamit alles gut vorbereitet werden kann\, ist eine Anmeldung erwünscht:brigitte@familientreff-birmi-gebi.ch \nWir freuen uns auf viele schöne Begegnungen und einen tollen Tag mit euch!
URL:https://familientreff-birmenstorf.ch/event/vaki-grill/
LOCATION:Familientreff Birmenstorf\, Chileweg 2\, Birmenstorf\, 5413\, Switzerland
ATTACH;FMTTYPE=image/jpeg:https://familientreff-birmenstorf.ch/wp-content/uploads/2026/03/Vaki-Grill-Instagram-Post-4.jpg
END:VEVENT
END:VCALENDAR